BEGIN:VCALENDAR
VERSION:2.0
PRODID:-//TSV 1887 - ECPv6.15.20//NONSGML v1.0//EN
CALSCALE:GREGORIAN
METHOD:PUBLISH
X-ORIGINAL-URL:https://www.tsv1887.de
X-WR-CALDESC:Veranstaltungen für TSV 1887
REFRESH-INTERVAL;VALUE=DURATION:PT1H
X-Robots-Tag:noindex
X-PUBLISHED-TTL:PT1H
BEGIN:VTIMEZONE
TZID:Europe/Berlin
BEGIN:DAYLIGHT
TZOFFSETFROM:+0100
TZOFFSETTO:+0200
TZNAME:CEST
DTSTART:20180325T010000
END:DAYLIGHT
BEGIN:STANDARD
TZOFFSETFROM:+0200
TZOFFSETTO:+0100
TZNAME:CET
DTSTART:20181028T010000
END:STANDARD
BEGIN:DAYLIGHT
TZOFFSETFROM:+0100
TZOFFSETTO:+0200
TZNAME:CEST
DTSTART:20190331T010000
END:DAYLIGHT
BEGIN:STANDARD
TZOFFSETFROM:+0200
TZOFFSETTO:+0100
TZNAME:CET
DTSTART:20191027T010000
END:STANDARD
BEGIN:DAYLIGHT
TZOFFSETFROM:+0100
TZOFFSETTO:+0200
TZNAME:CEST
DTSTART:20200329T010000
END:DAYLIGHT
BEGIN:STANDARD
TZOFFSETFROM:+0200
TZOFFSETTO:+0100
TZNAME:CET
DTSTART:20201025T010000
END:STANDARD
END:VTIMEZONE
BEGIN:VEVENT
DTSTART;TZID=Europe/Berlin:20190510T180000
DTEND;TZID=Europe/Berlin:20190510T180000
DTSTAMP:20260419T203749
CREATED:20181120T132521Z
LAST-MODIFIED:20190419T222114Z
UID:12571-1557511200-1557511200@www.tsv1887.de
SUMMARY:32. Residenz-Abendlauf
DESCRIPTION:Weitere Informationen und die Anmeldung zum Residenz-Abendlauf finden Sie unter folgendem Link: \nhttps://www.tsv1887.de/abteilungen/leichtathletik/residenz-abendlauf/
URL:https://www.tsv1887.de/termin/32-residenzabendlauf/
LOCATION:Stadion am Merschweg\, Merschweg 9\, Paderborn\, 33104
CATEGORIES:Gesamtverein,Leichtathletik
ATTACH;FMTTYPE=image/jpeg:https://www.tsv1887.de/wp-content/uploads/2018/05/DSC02993-1.jpg
GEO:51.74755;8.70402
X-APPLE-STRUCTURED-LOCATION;VALUE=URI;X-ADDRESS=Stadion am Merschweg Merschweg 9 Paderborn 33104;X-APPLE-RADIUS=500;X-TITLE=Merschweg 9:geo:8.70402,51.74755
END:VEVENT
END:VCALENDAR