BEGIN:VCALENDAR
VERSION:2.0
PRODID:-//TSV 1887 - ECPv6.15.20//NONSGML v1.0//EN
CALSCALE:GREGORIAN
METHOD:PUBLISH
X-ORIGINAL-URL:https://www.tsv1887.de
X-WR-CALDESC:Veranstaltungen für TSV 1887
REFRESH-INTERVAL;VALUE=DURATION:PT1H
X-Robots-Tag:noindex
X-PUBLISHED-TTL:PT1H
BEGIN:VTIMEZONE
TZID:Europe/Berlin
BEGIN:DAYLIGHT
TZOFFSETFROM:+0100
TZOFFSETTO:+0200
TZNAME:CEST
DTSTART:20180325T010000
END:DAYLIGHT
BEGIN:STANDARD
TZOFFSETFROM:+0200
TZOFFSETTO:+0100
TZNAME:CET
DTSTART:20181028T010000
END:STANDARD
BEGIN:DAYLIGHT
TZOFFSETFROM:+0100
TZOFFSETTO:+0200
TZNAME:CEST
DTSTART:20190331T010000
END:DAYLIGHT
BEGIN:STANDARD
TZOFFSETFROM:+0200
TZOFFSETTO:+0100
TZNAME:CET
DTSTART:20191027T010000
END:STANDARD
BEGIN:DAYLIGHT
TZOFFSETFROM:+0100
TZOFFSETTO:+0200
TZNAME:CEST
DTSTART:20200329T010000
END:DAYLIGHT
BEGIN:STANDARD
TZOFFSETFROM:+0200
TZOFFSETTO:+0100
TZNAME:CET
DTSTART:20201025T010000
END:STANDARD
END:VTIMEZONE
BEGIN:VEVENT
DTSTART;TZID=Europe/Berlin:20191213T190000
DTEND;TZID=Europe/Berlin:20191213T233000
DTSTAMP:20260423T090318
CREATED:20191105T082151Z
LAST-MODIFIED:20191105T082151Z
UID:14974-1576263600-1576279800@www.tsv1887.de
SUMMARY:Handballer feiern Weihnachten
DESCRIPTION:Liebe TSVl‘er\,\nhiermit laden wir Euch und eure Partner*innen herzlich zur diesjährigen Weihnachtsfeier ein.\nWann: Freitag\, 13. Dezember ab 19 Uhr\nWo: Hatzfelder Haus (Thuner Weg 194)\nEintritt: 25 Euro (bar vor Ort zahlen oder https://paypal.me/pools/c/8jDZdTBnqv) \nFür genügend Essen und Getränke jeglicher Art wird gesorgt. \nZur besseren Planung bitten wir um Anmeldung bis zum 01. Dezember 2019.\nAnmeldungen bitte an Lea Horstmann\, Lorenz Schäfer oder bei den Heimspielen an der Theke. \nWir freuen uns auf eine schöne Weihnachtsfeier!\nLorenz & Lea
URL:https://www.tsv1887.de/termin/handballer-feiern-weihnachten/
LOCATION:NRW
CATEGORIES:Handball
END:VEVENT
END:VCALENDAR