BEGIN:VCALENDAR
VERSION:2.0
PRODID:-//TSV 1887 - ECPv6.15.20//NONSGML v1.0//EN
CALSCALE:GREGORIAN
METHOD:PUBLISH
X-WR-CALNAME:TSV 1887
X-ORIGINAL-URL:https://www.tsv1887.de
X-WR-CALDESC:Veranstaltungen für TSV 1887
REFRESH-INTERVAL;VALUE=DURATION:PT1H
X-Robots-Tag:noindex
X-PUBLISHED-TTL:PT1H
BEGIN:VTIMEZONE
TZID:Europe/Berlin
BEGIN:DAYLIGHT
TZOFFSETFROM:+0100
TZOFFSETTO:+0200
TZNAME:CEST
DTSTART:20180325T010000
END:DAYLIGHT
BEGIN:STANDARD
TZOFFSETFROM:+0200
TZOFFSETTO:+0100
TZNAME:CET
DTSTART:20181028T010000
END:STANDARD
BEGIN:DAYLIGHT
TZOFFSETFROM:+0100
TZOFFSETTO:+0200
TZNAME:CEST
DTSTART:20190331T010000
END:DAYLIGHT
BEGIN:STANDARD
TZOFFSETFROM:+0200
TZOFFSETTO:+0100
TZNAME:CET
DTSTART:20191027T010000
END:STANDARD
BEGIN:DAYLIGHT
TZOFFSETFROM:+0100
TZOFFSETTO:+0200
TZNAME:CEST
DTSTART:20200329T010000
END:DAYLIGHT
BEGIN:STANDARD
TZOFFSETFROM:+0200
TZOFFSETTO:+0100
TZNAME:CET
DTSTART:20201025T010000
END:STANDARD
END:VTIMEZONE
BEGIN:VEVENT
DTSTART;TZID=Europe/Berlin:20190312T193000
DTEND;TZID=Europe/Berlin:20190312T193000
DTSTAMP:20260419T154812
CREATED:20181120T130427Z
LAST-MODIFIED:20181120T130427Z
UID:12560-1552419000-1552419000@www.tsv1887.de
SUMMARY:Abteilungsversammlung Tischtennis
DESCRIPTION:
URL:https://www.tsv1887.de/termin/abteilungsversammlung-tischtennis-2/
LOCATION:Hubertushof\, Hubertusweg 51\, Paderborn\, 33104
CATEGORIES:Gesamtverein,Tischtennis
GEO:51.75335;8.71217
X-APPLE-STRUCTURED-LOCATION;VALUE=URI;X-ADDRESS=Hubertushof Hubertusweg 51 Paderborn 33104;X-APPLE-RADIUS=500;X-TITLE=Hubertusweg 51:geo:8.71217,51.75335
END:VEVENT
BEGIN:VEVENT
DTSTART;TZID=Europe/Berlin:20190316T100000
DTEND;TZID=Europe/Berlin:20190316T160000
DTSTAMP:20260419T154812
CREATED:20190123T191340Z
LAST-MODIFIED:20190123T191406Z
UID:12734-1552730400-1552752000@www.tsv1887.de
SUMMARY:Landescup Turnen LK2
DESCRIPTION:
URL:https://www.tsv1887.de/termin/landescup-lk2/
LOCATION:Sporthalle Friedrich-von-Spee-Gesamtschule\, Weißdornweg 8\, Paderborn\, 33100\, Deutschland
CATEGORIES:Turnen,Turnen Wettkämpfe
GEO:51.7181814;8.7962611
X-APPLE-STRUCTURED-LOCATION;VALUE=URI;X-ADDRESS=Sporthalle Friedrich-von-Spee-Gesamtschule Weißdornweg 8 Paderborn 33100 Deutschland;X-APPLE-RADIUS=500;X-TITLE=Weißdornweg 8:geo:8.7962611,51.7181814
END:VEVENT
BEGIN:VEVENT
DTSTART;TZID=Europe/Berlin:20190317T093000
DTEND;TZID=Europe/Berlin:20190317T160000
DTSTAMP:20260419T154812
CREATED:20190123T191617Z
LAST-MODIFIED:20190309T112925Z
UID:12738-1552815000-1552838400@www.tsv1887.de
SUMMARY:Landescup Turnen LK1
DESCRIPTION:
URL:https://www.tsv1887.de/termin/landescup-turnen-lk1/
LOCATION:Sporthalle Friedrich-von-Spee-Gesamtschule\, Weißdornweg 8\, Paderborn\, 33100\, Deutschland
CATEGORIES:Turnen,Turnen Wettkämpfe
GEO:51.7181814;8.7962611
X-APPLE-STRUCTURED-LOCATION;VALUE=URI;X-ADDRESS=Sporthalle Friedrich-von-Spee-Gesamtschule Weißdornweg 8 Paderborn 33100 Deutschland;X-APPLE-RADIUS=500;X-TITLE=Weißdornweg 8:geo:8.7962611,51.7181814
END:VEVENT
BEGIN:VEVENT
DTSTART;TZID=Europe/Berlin:20190320T193000
DTEND;TZID=Europe/Berlin:20190320T193000
DTSTAMP:20260419T154812
CREATED:20181120T130632Z
LAST-MODIFIED:20181120T130632Z
UID:12562-1553110200-1553110200@www.tsv1887.de
SUMMARY:Abteilungsversammlung Turnen
DESCRIPTION:
URL:https://www.tsv1887.de/termin/abteilungsversammlung-turnen-2/
LOCATION:Andreas-Winter Sporthalle\, Sertürnerstraße 13\, Paderborn\, NRW\, 33104\, Deutschland
CATEGORIES:Gesamtverein,Turnen
GEO:51.7448122;8.711039
X-APPLE-STRUCTURED-LOCATION;VALUE=URI;X-ADDRESS=Andreas-Winter Sporthalle Sertürnerstraße 13 Paderborn NRW 33104 Deutschland;X-APPLE-RADIUS=500;X-TITLE=Sertürnerstraße 13:geo:8.711039,51.7448122
END:VEVENT
BEGIN:VEVENT
DTSTART;TZID=Europe/Berlin:20190323T150000
DTEND;TZID=Europe/Berlin:20190323T150000
DTSTAMP:20260419T154812
CREATED:20181120T132152Z
LAST-MODIFIED:20181120T132152Z
UID:12569-1553353200-1553353200@www.tsv1887.de
SUMMARY:Run Up
DESCRIPTION:
URL:https://www.tsv1887.de/termin/run-up-2/
LOCATION:Wilhelmsberg\, Hermann-Löns-Str. 72\, Paderborn\, 33104
CATEGORIES:Leichtathletik
END:VEVENT
BEGIN:VEVENT
DTSTART;TZID=Europe/Berlin:20190326T193000
DTEND;TZID=Europe/Berlin:20190326T193000
DTSTAMP:20260419T154812
CREATED:20181120T132914Z
LAST-MODIFIED:20181120T132914Z
UID:12573-1553628600-1553628600@www.tsv1887.de
SUMMARY:Jahreshauptversammlung
DESCRIPTION:
URL:https://www.tsv1887.de/termin/jahreshauptversammlung/
LOCATION:Andreas-Winter Sporthalle\, Sertürnerstraße 13\, Paderborn\, NRW\, 33104\, Deutschland
CATEGORIES:Gesamtverein,GesundheitPLUS,Hallenbosseln,Handball,Jugend,Leichtathletik,Tischtennis,Turnen
ORGANIZER;CN="TSV 1887 Schlo%C3%9F Neuhaus e.V.":MAILTO:geschaeftsstelle@tsv1887.de
GEO:51.7448122;8.711039
X-APPLE-STRUCTURED-LOCATION;VALUE=URI;X-ADDRESS=Andreas-Winter Sporthalle Sertürnerstraße 13 Paderborn NRW 33104 Deutschland;X-APPLE-RADIUS=500;X-TITLE=Sertürnerstraße 13:geo:8.711039,51.7448122
END:VEVENT
BEGIN:VEVENT
DTSTART;TZID=Europe/Berlin:20190330T100000
DTEND;TZID=Europe/Berlin:20190330T183000
DTSTAMP:20260419T154812
CREATED:20190123T192000Z
LAST-MODIFIED:20190324T172051Z
UID:12740-1553940000-1553970600@www.tsv1887.de
SUMMARY:Gauliga - 1. Wettkampf
DESCRIPTION:
URL:https://www.tsv1887.de/termin/gauliga-1-wettkampf-2/
LOCATION:Andreas-Winter Sporthalle\, Sertürnerstraße 13\, Paderborn\, NRW\, 33104\, Deutschland
CATEGORIES:Turnen,Turnen Wettkämpfe
GEO:51.7448122;8.711039
X-APPLE-STRUCTURED-LOCATION;VALUE=URI;X-ADDRESS=Andreas-Winter Sporthalle Sertürnerstraße 13 Paderborn NRW 33104 Deutschland;X-APPLE-RADIUS=500;X-TITLE=Sertürnerstraße 13:geo:8.711039,51.7448122
END:VEVENT
END:VCALENDAR