BEGIN:VCALENDAR
VERSION:2.0
PRODID:-//TSV 1887 - ECPv6.15.20//NONSGML v1.0//EN
CALSCALE:GREGORIAN
METHOD:PUBLISH
X-ORIGINAL-URL:https://www.tsv1887.de
X-WR-CALDESC:Veranstaltungen für TSV 1887
REFRESH-INTERVAL;VALUE=DURATION:PT1H
X-Robots-Tag:noindex
X-PUBLISHED-TTL:PT1H
BEGIN:VTIMEZONE
TZID:Europe/Berlin
BEGIN:DAYLIGHT
TZOFFSETFROM:+0100
TZOFFSETTO:+0200
TZNAME:CEST
DTSTART:20180325T010000
END:DAYLIGHT
BEGIN:STANDARD
TZOFFSETFROM:+0200
TZOFFSETTO:+0100
TZNAME:CET
DTSTART:20181028T010000
END:STANDARD
BEGIN:DAYLIGHT
TZOFFSETFROM:+0100
TZOFFSETTO:+0200
TZNAME:CEST
DTSTART:20190331T010000
END:DAYLIGHT
BEGIN:STANDARD
TZOFFSETFROM:+0200
TZOFFSETTO:+0100
TZNAME:CET
DTSTART:20191027T010000
END:STANDARD
BEGIN:DAYLIGHT
TZOFFSETFROM:+0100
TZOFFSETTO:+0200
TZNAME:CEST
DTSTART:20200329T010000
END:DAYLIGHT
BEGIN:STANDARD
TZOFFSETFROM:+0200
TZOFFSETTO:+0100
TZNAME:CET
DTSTART:20201025T010000
END:STANDARD
END:VTIMEZONE
BEGIN:VEVENT
DTSTART;TZID=Europe/Berlin:20191213T190000
DTEND;TZID=Europe/Berlin:20191213T233000
DTSTAMP:20260423T073711
CREATED:20191105T082151Z
LAST-MODIFIED:20191105T082151Z
UID:14974-1576263600-1576279800@www.tsv1887.de
SUMMARY:Handballer feiern Weihnachten
DESCRIPTION:Liebe TSVl‘er\,\nhiermit laden wir Euch und eure Partner*innen herzlich zur diesjährigen Weihnachtsfeier ein.\nWann: Freitag\, 13. Dezember ab 19 Uhr\nWo: Hatzfelder Haus (Thuner Weg 194)\nEintritt: 25 Euro (bar vor Ort zahlen oder https://paypal.me/pools/c/8jDZdTBnqv) \nFür genügend Essen und Getränke jeglicher Art wird gesorgt. \nZur besseren Planung bitten wir um Anmeldung bis zum 01. Dezember 2019.\nAnmeldungen bitte an Lea Horstmann\, Lorenz Schäfer oder bei den Heimspielen an der Theke. \nWir freuen uns auf eine schöne Weihnachtsfeier!\nLorenz & Lea
URL:https://www.tsv1887.de/termin/handballer-feiern-weihnachten/
LOCATION:NRW
CATEGORIES:Handball
END:VEVENT
BEGIN:VEVENT
DTSTART;TZID=Europe/Berlin:20191215T150000
DTEND;TZID=Europe/Berlin:20191215T180000
DTSTAMP:20260423T073711
CREATED:20190124T075914Z
LAST-MODIFIED:20190124T080028Z
UID:12754-1576422000-1576432800@www.tsv1887.de
SUMMARY:43. Weihnachtsschauturnen
DESCRIPTION:
URL:https://www.tsv1887.de/termin/43-weihnachtsschauturnen/
LOCATION:Andreas-Winter Sporthalle\, Sertürnerstraße 13\, Paderborn\, NRW\, 33104\, Deutschland
CATEGORIES:Turnen
GEO:51.7448122;8.711039
X-APPLE-STRUCTURED-LOCATION;VALUE=URI;X-ADDRESS=Andreas-Winter Sporthalle Sertürnerstraße 13 Paderborn NRW 33104 Deutschland;X-APPLE-RADIUS=500;X-TITLE=Sertürnerstraße 13:geo:8.711039,51.7448122
END:VEVENT
BEGIN:VEVENT
DTSTART;TZID=Europe/Berlin:20191217T180000
DTEND;TZID=Europe/Berlin:20191217T180000
DTSTAMP:20260423T073711
CREATED:20191128T130459Z
LAST-MODIFIED:20191128T130459Z
UID:15046-1576605600-1576605600@www.tsv1887.de
SUMMARY:Gemeinsamer Jahresabschluss der Abteilungen
DESCRIPTION:Wir veranstalten ein internes Turnier im Hallenbosseln. Nicht das Gewinnen\, sondern der Spaß am Spiel und das Miteinander sollen im Vordergrund stehen. Alle Vereinsmitglieder sind zu diesem gemeinsamen Jahresabschluss herzlich eingeladen. \nMehr Infos: https://www.tsv1887.de/news/gemeinsamer-jahresabschluss-der-abteilungen/ 
URL:https://www.tsv1887.de/termin/gemeinsamer-jahresabschluss-der-abteilungen/
LOCATION:Andreas-Winter Sporthalle\, Sertürnerstraße 13\, Paderborn\, NRW\, 33104\, Deutschland
CATEGORIES:Gesamtverein,GesundheitPLUS,Hallenbosseln,Handball,Leichtathletik,Tischtennis,Turnen
ORGANIZER;CN="TSV 1887 Schlo%C3%9F Neuhaus e.V.":MAILTO:geschaeftsstelle@tsv1887.de
GEO:51.7448122;8.711039
X-APPLE-STRUCTURED-LOCATION;VALUE=URI;X-ADDRESS=Andreas-Winter Sporthalle Sertürnerstraße 13 Paderborn NRW 33104 Deutschland;X-APPLE-RADIUS=500;X-TITLE=Sertürnerstraße 13:geo:8.711039,51.7448122
END:VEVENT
BEGIN:VEVENT
DTSTART;TZID=Europe/Berlin:20191218T173000
DTEND;TZID=Europe/Berlin:20191218T173000
DTSTAMP:20260423T073711
CREATED:20191128T130800Z
LAST-MODIFIED:20191128T130800Z
UID:15049-1576690200-1576690200@www.tsv1887.de
SUMMARY:Catch Me - Die TSV-Meisterschaft im Fangen
DESCRIPTION:Mehr Infos: https://www.tsv1887.de/news/catch-me-die-tsv-meisterschaft-im-fangen/
URL:https://www.tsv1887.de/termin/catch-me-die-tsv-meisterschaft-im-fangen/
LOCATION:Andreas-Winter Sporthalle\, Sertürnerstraße 13\, Paderborn\, NRW\, 33104\, Deutschland
CATEGORIES:Gesamtverein,GesundheitPLUS,Hallenbosseln,Handball,Jugend,Leichtathletik,Tischtennis,Turnen
ORGANIZER;CN="J-Team TSV 1887 Schlo%C3%9F Neuhaus e.V.":MAILTO:j-team@tsv1887.de
GEO:51.7448122;8.711039
X-APPLE-STRUCTURED-LOCATION;VALUE=URI;X-ADDRESS=Andreas-Winter Sporthalle Sertürnerstraße 13 Paderborn NRW 33104 Deutschland;X-APPLE-RADIUS=500;X-TITLE=Sertürnerstraße 13:geo:8.711039,51.7448122
END:VEVENT
END:VCALENDAR