BEGIN:VCALENDAR
VERSION:2.0
PRODID:-//TSV 1887 - ECPv6.15.20//NONSGML v1.0//EN
CALSCALE:GREGORIAN
METHOD:PUBLISH
X-WR-CALNAME:TSV 1887
X-ORIGINAL-URL:https://www.tsv1887.de
X-WR-CALDESC:Veranstaltungen für TSV 1887
REFRESH-INTERVAL;VALUE=DURATION:PT1H
X-Robots-Tag:noindex
X-PUBLISHED-TTL:PT1H
BEGIN:VTIMEZONE
TZID:Europe/Berlin
BEGIN:DAYLIGHT
TZOFFSETFROM:+0100
TZOFFSETTO:+0200
TZNAME:CEST
DTSTART:20190331T010000
END:DAYLIGHT
BEGIN:STANDARD
TZOFFSETFROM:+0200
TZOFFSETTO:+0100
TZNAME:CET
DTSTART:20191027T010000
END:STANDARD
BEGIN:DAYLIGHT
TZOFFSETFROM:+0100
TZOFFSETTO:+0200
TZNAME:CEST
DTSTART:20200329T010000
END:DAYLIGHT
BEGIN:STANDARD
TZOFFSETFROM:+0200
TZOFFSETTO:+0100
TZNAME:CET
DTSTART:20201025T010000
END:STANDARD
BEGIN:DAYLIGHT
TZOFFSETFROM:+0100
TZOFFSETTO:+0200
TZNAME:CEST
DTSTART:20210328T010000
END:DAYLIGHT
BEGIN:STANDARD
TZOFFSETFROM:+0200
TZOFFSETTO:+0100
TZNAME:CET
DTSTART:20211031T010000
END:STANDARD
END:VTIMEZONE
BEGIN:VEVENT
DTSTART;TZID=Europe/Berlin:20200107T193000
DTEND;TZID=Europe/Berlin:20200107T203000
DTSTAMP:20260423T055731
CREATED:20191206T151637Z
LAST-MODIFIED:20191206T151637Z
UID:15165-1578425400-1578429000@www.tsv1887.de
SUMMARY:Komm raus aus der Komfortzone!
DESCRIPTION:https://www.tsv1887.de/sportangebote/vortragsreihe-komm-raus-aus-der-komfortzone/
URL:https://www.tsv1887.de/termin/komm-raus-aus-der-komfortzone/
LOCATION:Andreas-Winter Sporthalle\, Sertürnerstraße 13\, Paderborn\, NRW\, 33104\, Deutschland
CATEGORIES:Gesamtverein,GesundheitPLUS
GEO:51.7448122;8.711039
X-APPLE-STRUCTURED-LOCATION;VALUE=URI;X-ADDRESS=Andreas-Winter Sporthalle Sertürnerstraße 13 Paderborn NRW 33104 Deutschland;X-APPLE-RADIUS=500;X-TITLE=Sertürnerstraße 13:geo:8.711039,51.7448122
END:VEVENT
BEGIN:VEVENT
DTSTART;TZID=Europe/Berlin:20200119T110000
DTEND;TZID=Europe/Berlin:20200119T133000
DTSTAMP:20260423T055731
CREATED:20191128T131012Z
LAST-MODIFIED:20191128T131012Z
UID:15053-1579431600-1579440600@www.tsv1887.de
SUMMARY:Neujahrsempfang 2020
DESCRIPTION:
URL:https://www.tsv1887.de/termin/neujahrsempfang-2020/
LOCATION:Spiegelsaal Schloss\, Schloßstraße 10\, Paderborn\, 33104
CATEGORIES:Gesamtverein,GesundheitPLUS,Hallenbosseln,Handball,Jugend,Leichtathletik,Tischtennis,Turnen
ORGANIZER;CN="TSV 1887 Schlo%C3%9F Neuhaus e.V.":MAILTO:geschaeftsstelle@tsv1887.de
GEO:51.742835;8.7144077
X-APPLE-STRUCTURED-LOCATION;VALUE=URI;X-ADDRESS=Spiegelsaal Schloss Schloßstraße 10 Paderborn 33104;X-APPLE-RADIUS=500;X-TITLE=Schloßstraße 10:geo:8.7144077,51.742835
END:VEVENT
BEGIN:VEVENT
DTSTART;TZID=Europe/Berlin:20200128T193000
DTEND;TZID=Europe/Berlin:20200128T203000
DTSTAMP:20260423T055731
CREATED:20191206T152817Z
LAST-MODIFIED:20191206T152934Z
UID:15175-1580239800-1580243400@www.tsv1887.de
SUMMARY:Wie plane ich ein Lauftraining?
DESCRIPTION:https://www.tsv1887.de/sportangebote/wie-plane-ich-ein-lauftraining/
URL:https://www.tsv1887.de/termin/wie-plane-ich-ein-lauftraining/
LOCATION:Andreas-Winter Sporthalle\, Sertürnerstraße 13\, Paderborn\, NRW\, 33104\, Deutschland
CATEGORIES:GesundheitPLUS,Leichtathletik
GEO:51.7448122;8.711039
X-APPLE-STRUCTURED-LOCATION;VALUE=URI;X-ADDRESS=Andreas-Winter Sporthalle Sertürnerstraße 13 Paderborn NRW 33104 Deutschland;X-APPLE-RADIUS=500;X-TITLE=Sertürnerstraße 13:geo:8.711039,51.7448122
END:VEVENT
END:VCALENDAR