BEGIN:VCALENDAR
VERSION:2.0
PRODID:-//TSV 1887 - ECPv6.15.20//NONSGML v1.0//EN
CALSCALE:GREGORIAN
METHOD:PUBLISH
X-ORIGINAL-URL:https://www.tsv1887.de
X-WR-CALDESC:Veranstaltungen für TSV 1887
REFRESH-INTERVAL;VALUE=DURATION:PT1H
X-Robots-Tag:noindex
X-PUBLISHED-TTL:PT1H
BEGIN:VTIMEZONE
TZID:Europe/Berlin
BEGIN:DAYLIGHT
TZOFFSETFROM:+0100
TZOFFSETTO:+0200
TZNAME:CEST
DTSTART:20190331T010000
END:DAYLIGHT
BEGIN:STANDARD
TZOFFSETFROM:+0200
TZOFFSETTO:+0100
TZNAME:CET
DTSTART:20191027T010000
END:STANDARD
BEGIN:DAYLIGHT
TZOFFSETFROM:+0100
TZOFFSETTO:+0200
TZNAME:CEST
DTSTART:20200329T010000
END:DAYLIGHT
BEGIN:STANDARD
TZOFFSETFROM:+0200
TZOFFSETTO:+0100
TZNAME:CET
DTSTART:20201025T010000
END:STANDARD
BEGIN:DAYLIGHT
TZOFFSETFROM:+0100
TZOFFSETTO:+0200
TZNAME:CEST
DTSTART:20210328T010000
END:DAYLIGHT
BEGIN:STANDARD
TZOFFSETFROM:+0200
TZOFFSETTO:+0100
TZNAME:CET
DTSTART:20211031T010000
END:STANDARD
END:VTIMEZONE
BEGIN:VEVENT
DTSTART;TZID=Europe/Berlin:20200303T193000
DTEND;TZID=Europe/Berlin:20200303T193000
DTSTAMP:20260423T025515
CREATED:20200205T090543Z
LAST-MODIFIED:20200205T090543Z
UID:15454-1583263800-1583263800@www.tsv1887.de
SUMMARY:Abteilungsversammlung Tischtennis
DESCRIPTION:
URL:https://www.tsv1887.de/termin/abteilungsversammlung-tischtennis-3/
LOCATION:Hubertushof\, Hubertusweg 51\, Paderborn\, 33104
CATEGORIES:Tischtennis
GEO:51.75335;8.71217
X-APPLE-STRUCTURED-LOCATION;VALUE=URI;X-ADDRESS=Hubertushof Hubertusweg 51 Paderborn 33104;X-APPLE-RADIUS=500;X-TITLE=Hubertusweg 51:geo:8.71217,51.75335
END:VEVENT
BEGIN:VEVENT
DTSTART;TZID=Europe/Berlin:20200310T190000
DTEND;TZID=Europe/Berlin:20200310T190000
DTSTAMP:20260423T025515
CREATED:20200205T090726Z
LAST-MODIFIED:20200313T164623Z
UID:15456-1583866800-1583866800@www.tsv1887.de
SUMMARY:Abteilungsversammlung Turnen
DESCRIPTION:
URL:https://www.tsv1887.de/termin/abteilungsversammlung-turnen-3/
LOCATION:Schulungsraum Andreas-Winter-Sporthalle\, Sertürnerstraße 13\, Paderborn\, 33104
CATEGORIES:Turnen
END:VEVENT
BEGIN:VEVENT
DTSTART;TZID=Europe/Berlin:20200314T110000
DTEND;TZID=Europe/Berlin:20200314T110000
DTSTAMP:20260423T025515
CREATED:20200220T140113Z
LAST-MODIFIED:20200313T164547Z
UID:15531-1584183600-1584183600@www.tsv1887.de
SUMMARY:Jugendversammlung (Der Termin wird verschoben!)
DESCRIPTION:Mehr Infos hier!
URL:https://www.tsv1887.de/termin/jugendversammlung-2020/
LOCATION:Schulungsraum Andreas-Winter-Sporthalle\, Sertürnerstraße 13\, Paderborn\, 33104
CATEGORIES:Gesamtverein,GesundheitPLUS,Hallenbosseln,Handball,Jugend,Leichtathletik,Taekwon-Do,Tischtennis,Turnen
END:VEVENT
BEGIN:VEVENT
DTSTART;TZID=Europe/Berlin:20200318T203000
DTEND;TZID=Europe/Berlin:20200318T220000
DTSTAMP:20260423T025515
CREATED:20200124T100317Z
LAST-MODIFIED:20200313T164731Z
UID:15225-1584563400-1584568800@www.tsv1887.de
SUMMARY:Abteilungsversammlung Handball (Der Termin wird verschoben!)
DESCRIPTION:Abteilungsversammlung am 18. März 2020 um 20:30 Uhr in der Andreas-Winter-Sporthalle\nTagesordnungspunkte\n\nBegrüßung\nBericht des Vorstandes\nRückblick 2019 und Ausblick 2020\nBerichte\na. Übungsleiter/Trainer\nb. Schiedsrichterwart\nc. Jugendwart\nWahlen\nEhrungen\nTermine\nVerschiedenes
URL:https://www.tsv1887.de/termin/abteilungsversammlung-handball-3/
LOCATION:Andreas-Winter Sporthalle\, Sertürnerstraße 13\, Paderborn\, NRW\, 33104\, Deutschland
CATEGORIES:Gesamtverein,Handball
GEO:51.7448122;8.711039
X-APPLE-STRUCTURED-LOCATION;VALUE=URI;X-ADDRESS=Andreas-Winter Sporthalle Sertürnerstraße 13 Paderborn NRW 33104 Deutschland;X-APPLE-RADIUS=500;X-TITLE=Sertürnerstraße 13:geo:8.711039,51.7448122
END:VEVENT
BEGIN:VEVENT
DTSTART;TZID=Europe/Berlin:20200321T150000
DTEND;TZID=Europe/Berlin:20200321T150000
DTSTAMP:20260423T025515
CREATED:20200205T091054Z
LAST-MODIFIED:20200313T164712Z
UID:15458-1584802800-1584802800@www.tsv1887.de
SUMMARY:Run Up/Antrimmen (Der Termin wird verschoben!)
DESCRIPTION:
URL:https://www.tsv1887.de/termin/run-up-antrimmen/
LOCATION:Wilhelmsberg\, Hermann-Löns-Str. 72\, Paderborn\, 33104
CATEGORIES:Leichtathletik
END:VEVENT
BEGIN:VEVENT
DTSTART;TZID=Europe/Berlin:20200326T193000
DTEND;TZID=Europe/Berlin:20200326T193000
DTSTAMP:20260423T025515
CREATED:20191206T152228Z
LAST-MODIFIED:20200918T092327Z
UID:15173-1585251000-1585251000@www.tsv1887.de
SUMMARY:Mitgliederversammlung (Der Termin wird verschoben!)
DESCRIPTION:
URL:https://www.tsv1887.de/termin/jahreshauptversammlung-2/
LOCATION:Andreas-Winter Sporthalle\, Sertürnerstraße 13\, Paderborn\, NRW\, 33104\, Deutschland
CATEGORIES:Gesamtverein,GesundheitPLUS,Hallenbosseln,Handball,Jugend,Leichtathletik,Tischtennis,Turnen
ORGANIZER;CN="TSV 1887 Schlo%C3%9F Neuhaus e.V.":MAILTO:geschaeftsstelle@tsv1887.de
GEO:51.7448122;8.711039
X-APPLE-STRUCTURED-LOCATION;VALUE=URI;X-ADDRESS=Andreas-Winter Sporthalle Sertürnerstraße 13 Paderborn NRW 33104 Deutschland;X-APPLE-RADIUS=500;X-TITLE=Sertürnerstraße 13:geo:8.711039,51.7448122
END:VEVENT
BEGIN:VEVENT
DTSTART;TZID=Europe/Berlin:20200328T100000
DTEND;TZID=Europe/Berlin:20200328T173000
DTSTAMP:20260423T025515
CREATED:20200310T081038Z
LAST-MODIFIED:20200315T092022Z
UID:15571-1585389600-1585416600@www.tsv1887.de
SUMMARY:Abgesagt - Gauliga Wettkampf
DESCRIPTION:In der Gauliga turnen die Mannschaften der Turnvereinen aus dem Kreis Paderborn in vier Liegen gegeneinander. Die Mädchen der Ligen 1 und 2 sowie die Jungen starten um 10 Uhr mit ihren Wettkampf. Am Nachmittag ab ca. 14:30 Uhr beginnt dann der Wettkampf der Liegen 3 und 4. \nVeranstaltungsorte sind: \n28.03.2020 – Andreas-Winter-Sporthalle – Abgesagt \n06.05.2020 – Kaukenberg \n06.06.2020 – Andreas-Winter-Sporthalle \nDer Eintritt ist bei jedem Wettkampf frei. Wir freuen uns über zahlreiche Besucher!
URL:https://www.tsv1887.de/termin/gauliga-wettkampf/
LOCATION:Andreas-Winter Sporthalle\, Sertürnerstraße 13\, Paderborn\, NRW\, 33104\, Deutschland
CATEGORIES:Turnen Wettkämpfe
GEO:51.7448122;8.711039
X-APPLE-STRUCTURED-LOCATION;VALUE=URI;X-ADDRESS=Andreas-Winter Sporthalle Sertürnerstraße 13 Paderborn NRW 33104 Deutschland;X-APPLE-RADIUS=500;X-TITLE=Sertürnerstraße 13:geo:8.711039,51.7448122
END:VEVENT
END:VCALENDAR