BEGIN:VCALENDAR
VERSION:2.0
PRODID:-//TSV 1887 - ECPv6.15.20//NONSGML v1.0//EN
CALSCALE:GREGORIAN
METHOD:PUBLISH
X-ORIGINAL-URL:https://www.tsv1887.de
X-WR-CALDESC:Veranstaltungen für TSV 1887
REFRESH-INTERVAL;VALUE=DURATION:PT1H
X-Robots-Tag:noindex
X-PUBLISHED-TTL:PT1H
BEGIN:VTIMEZONE
TZID:Europe/Berlin
BEGIN:DAYLIGHT
TZOFFSETFROM:+0100
TZOFFSETTO:+0200
TZNAME:CEST
DTSTART:20190331T010000
END:DAYLIGHT
BEGIN:STANDARD
TZOFFSETFROM:+0200
TZOFFSETTO:+0100
TZNAME:CET
DTSTART:20191027T010000
END:STANDARD
BEGIN:DAYLIGHT
TZOFFSETFROM:+0100
TZOFFSETTO:+0200
TZNAME:CEST
DTSTART:20200329T010000
END:DAYLIGHT
BEGIN:STANDARD
TZOFFSETFROM:+0200
TZOFFSETTO:+0100
TZNAME:CET
DTSTART:20201025T010000
END:STANDARD
BEGIN:DAYLIGHT
TZOFFSETFROM:+0100
TZOFFSETTO:+0200
TZNAME:CEST
DTSTART:20210328T010000
END:DAYLIGHT
BEGIN:STANDARD
TZOFFSETFROM:+0200
TZOFFSETTO:+0100
TZNAME:CET
DTSTART:20211031T010000
END:STANDARD
END:VTIMEZONE
BEGIN:VEVENT
DTSTART;TZID=Europe/Berlin:20200508T180000
DTEND;TZID=Europe/Berlin:20200508T180000
DTSTAMP:20260422T234734
CREATED:20200205T100112Z
LAST-MODIFIED:20200330T135009Z
UID:15470-1588960800-1588960800@www.tsv1887.de
SUMMARY:33. Residenz-Abendlauf (fällt aus!)
DESCRIPTION:Der Residenzabendlauf 2020 muss aufgrund der Corona-Pandemie leider ausfallen. \nMehr Infos hier!
URL:https://www.tsv1887.de/termin/33-residenz-abendlauf/
LOCATION:Stadion am Merschweg\, Merschweg 9\, Paderborn\, 33104
CATEGORIES:Leichtathletik
GEO:51.74755;8.70402
X-APPLE-STRUCTURED-LOCATION;VALUE=URI;X-ADDRESS=Stadion am Merschweg Merschweg 9 Paderborn 33104;X-APPLE-RADIUS=500;X-TITLE=Merschweg 9:geo:8.70402,51.74755
END:VEVENT
BEGIN:VEVENT
DTSTART;TZID=Europe/Berlin:20200509T100000
DTEND;TZID=Europe/Berlin:20200509T173000
DTSTAMP:20260422T234734
CREATED:20200310T081038Z
LAST-MODIFIED:20200513T110835Z
UID:15573-1589018400-1589045400@www.tsv1887.de
SUMMARY:Gauliga Wettkampf (fällt aus!)
DESCRIPTION:In der Gauliga turnen die Mannschaften der Turnvereinen aus dem Kreis Paderborn in vier Liegen gegeneinander. Die Mädchen der Ligen 1 und 2 sowie die Jungen starten um 10 Uhr mit ihren Wettkampf. Am Nachmittag ab ca. 14:30 Uhr beginnt dann der Wettkampf der Liegen 3 und 4. \nVeranstaltungsorte sind: \n28.03.2020 – Andreas-Winter-Sporthalle \n06.05.2020 – Kaukenberg \n06.06.2020 – Andreas-Winter-Sporthalle \nDer Eintritt ist bei jedem Wettkampf frei. Wir freuen uns über zahlreiche Besucher!
URL:https://www.tsv1887.de/termin/gauliga-wettkampf-2020-05-09/
LOCATION:Sporthalle Friedrich-von-Spee-Gesamtschule\, Weißdornweg 8\, Paderborn\, 33100\, Deutschland
CATEGORIES:Turnen Wettkämpfe
GEO:51.7181814;8.7962611
X-APPLE-STRUCTURED-LOCATION;VALUE=URI;X-ADDRESS=Sporthalle Friedrich-von-Spee-Gesamtschule Weißdornweg 8 Paderborn 33100 Deutschland;X-APPLE-RADIUS=500;X-TITLE=Weißdornweg 8:geo:8.7962611,51.7181814
END:VEVENT
BEGIN:VEVENT
DTSTART;TZID=Europe/Berlin:20200516T093000
DTEND;TZID=Europe/Berlin:20200516T200000
DTSTAMP:20260422T234734
CREATED:20200323T074403Z
LAST-MODIFIED:20200513T110825Z
UID:15756-1589621400-1589659200@www.tsv1887.de
SUMMARY:German Open 2020 (fällt aus!)
DESCRIPTION:
URL:https://www.tsv1887.de/termin/german-open-2020/
LOCATION:Gustav-Heinemann Gesamtschule\, Parsevalstrasse 170\, Dortmund\, 44369
CATEGORIES:Taekwon-Do
END:VEVENT
BEGIN:VEVENT
DTSTART;TZID=Europe/Berlin:20200516T130000
DTEND;TZID=Europe/Berlin:20200516T130000
DTSTAMP:20260422T234734
CREATED:20200205T110348Z
LAST-MODIFIED:20200513T110817Z
UID:15475-1589634000-1589634000@www.tsv1887.de
SUMMARY:Werner-Rech-Pokalturnier (fällt aus!)
DESCRIPTION:
URL:https://www.tsv1887.de/termin/werner-rech-pokalturnier/
LOCATION:Turnhalle am Residenz-Hallenbad\, Am Schloßgarten\, Paderborn\, 33104
CATEGORIES:Tischtennis
GEO:51.7475211;8.713704
X-APPLE-STRUCTURED-LOCATION;VALUE=URI;X-ADDRESS=Turnhalle am Residenz-Hallenbad Am Schloßgarten Paderborn 33104;X-APPLE-RADIUS=500;X-TITLE=Am Schloßgarten:geo:8.713704,51.7475211
END:VEVENT
BEGIN:VEVENT
DTSTART;TZID=Europe/Berlin:20200516T190000
DTEND;TZID=Europe/Berlin:20200516T190000
DTSTAMP:20260422T234734
CREATED:20200205T111755Z
LAST-MODIFIED:20200513T110803Z
UID:15491-1589655600-1589655600@www.tsv1887.de
SUMMARY:Saisonabschlussfeier TT-Abteilung (fällt aus!)
DESCRIPTION:
URL:https://www.tsv1887.de/termin/saisonabschlussfeier-tt-abteilung/
LOCATION:KAB-Hütte
CATEGORIES:Tischtennis
END:VEVENT
END:VCALENDAR