BEGIN:VCALENDAR
VERSION:2.0
PRODID:-//TSV 1887 - ECPv6.15.20//NONSGML v1.0//EN
CALSCALE:GREGORIAN
METHOD:PUBLISH
X-WR-CALNAME:TSV 1887
X-ORIGINAL-URL:https://www.tsv1887.de
X-WR-CALDESC:Veranstaltungen für TSV 1887
REFRESH-INTERVAL;VALUE=DURATION:PT1H
X-Robots-Tag:noindex
X-PUBLISHED-TTL:PT1H
BEGIN:VTIMEZONE
TZID:Europe/Berlin
BEGIN:DAYLIGHT
TZOFFSETFROM:+0100
TZOFFSETTO:+0200
TZNAME:CEST
DTSTART:20190331T010000
END:DAYLIGHT
BEGIN:STANDARD
TZOFFSETFROM:+0200
TZOFFSETTO:+0100
TZNAME:CET
DTSTART:20191027T010000
END:STANDARD
BEGIN:DAYLIGHT
TZOFFSETFROM:+0100
TZOFFSETTO:+0200
TZNAME:CEST
DTSTART:20200329T010000
END:DAYLIGHT
BEGIN:STANDARD
TZOFFSETFROM:+0200
TZOFFSETTO:+0100
TZNAME:CET
DTSTART:20201025T010000
END:STANDARD
BEGIN:DAYLIGHT
TZOFFSETFROM:+0100
TZOFFSETTO:+0200
TZNAME:CEST
DTSTART:20210328T010000
END:DAYLIGHT
BEGIN:STANDARD
TZOFFSETFROM:+0200
TZOFFSETTO:+0100
TZNAME:CET
DTSTART:20211031T010000
END:STANDARD
END:VTIMEZONE
BEGIN:VEVENT
DTSTART;TZID=Europe/Berlin:20200704T140000
DTEND;TZID=Europe/Berlin:20200705T140000
DTSTAMP:20260422T200621
CREATED:20200205T111524Z
LAST-MODIFIED:20200513T110443Z
UID:15487-1593871200-1593957600@www.tsv1887.de
SUMMARY:Beach-Handball-Turnier (fällt aus!)
DESCRIPTION:Absage des 20. Beach-Handball-Turniers
URL:https://www.tsv1887.de/termin/beach-handball-turnier-tag-1/
LOCATION:Beachplatz am Lippesee\, Sennelagerstraße 66\, Paderborn\, NRW\, 33104\, Deutschland
CATEGORIES:Handball
GEO:51.761439;8.684335
X-APPLE-STRUCTURED-LOCATION;VALUE=URI;X-ADDRESS=Beachplatz am Lippesee Sennelagerstraße 66 Paderborn NRW 33104 Deutschland;X-APPLE-RADIUS=500;X-TITLE=Sennelagerstraße 66:geo:8.684335,51.761439
END:VEVENT
BEGIN:VEVENT
DTSTART;TZID=Europe/Berlin:20200722T180000
DTEND;TZID=Europe/Berlin:20200722T180000
DTSTAMP:20260422T200621
CREATED:20200701T143858Z
LAST-MODIFIED:20200701T145450Z
UID:15980-1595440800-1595440800@www.tsv1887.de
SUMMARY:Abnahme des Sportabzeichens - Radfahren (Bereich Ausdauer)
DESCRIPTION:
URL:https://www.tsv1887.de/termin/abnahme-des-sportabzeichens-20-km-radfahren-bereich-ausdauer/
LOCATION:Stadion am Merschweg\, Merschweg 9\, Paderborn\, 33104
CATEGORIES:Gesamtverein,GesundheitPLUS,Hallenbosseln,Handball,Jugend,Leichtathletik,Taekwon-Do,Tischtennis,Turnen
ORGANIZER;CN="TSV 1887 Schlo%C3%9F Neuhaus e.V.":MAILTO:geschaeftsstelle@tsv1887.de
GEO:51.74755;8.70402
X-APPLE-STRUCTURED-LOCATION;VALUE=URI;X-ADDRESS=Stadion am Merschweg Merschweg 9 Paderborn 33104;X-APPLE-RADIUS=500;X-TITLE=Merschweg 9:geo:8.70402,51.74755
END:VEVENT
END:VCALENDAR