BEGIN:VCALENDAR
VERSION:2.0
PRODID:-//TSV 1887 - ECPv6.15.20//NONSGML v1.0//EN
CALSCALE:GREGORIAN
METHOD:PUBLISH
X-WR-CALNAME:TSV 1887
X-ORIGINAL-URL:https://www.tsv1887.de
X-WR-CALDESC:Veranstaltungen für TSV 1887
REFRESH-INTERVAL;VALUE=DURATION:PT1H
X-Robots-Tag:noindex
X-PUBLISHED-TTL:PT1H
BEGIN:VTIMEZONE
TZID:Europe/Berlin
BEGIN:DAYLIGHT
TZOFFSETFROM:+0100
TZOFFSETTO:+0200
TZNAME:CEST
DTSTART:20190331T010000
END:DAYLIGHT
BEGIN:STANDARD
TZOFFSETFROM:+0200
TZOFFSETTO:+0100
TZNAME:CET
DTSTART:20191027T010000
END:STANDARD
BEGIN:DAYLIGHT
TZOFFSETFROM:+0100
TZOFFSETTO:+0200
TZNAME:CEST
DTSTART:20200329T010000
END:DAYLIGHT
BEGIN:STANDARD
TZOFFSETFROM:+0200
TZOFFSETTO:+0100
TZNAME:CET
DTSTART:20201025T010000
END:STANDARD
BEGIN:DAYLIGHT
TZOFFSETFROM:+0100
TZOFFSETTO:+0200
TZNAME:CEST
DTSTART:20210328T010000
END:DAYLIGHT
BEGIN:STANDARD
TZOFFSETFROM:+0200
TZOFFSETTO:+0100
TZNAME:CET
DTSTART:20211031T010000
END:STANDARD
END:VTIMEZONE
BEGIN:VEVENT
DTSTART;TZID=Europe/Berlin:20201107T100000
DTEND;TZID=Europe/Berlin:20201107T180000
DTSTAMP:20260422T135055
CREATED:20200323T073855Z
LAST-MODIFIED:20200330T112709Z
UID:15749-1604743200-1604772000@www.tsv1887.de
SUMMARY:Residenz-Cup 2020 (Vereinsmeisterschaft)
DESCRIPTION:
URL:https://www.tsv1887.de/termin/residenz-cup-2020-vereinsmeisterschaft/
LOCATION:Heinrich/Bonhoeffer-Halle (alt)\, Memelstraße 11\, Paderborn\, 33104
CATEGORIES:Gesamtverein,Taekwon-Do
ORGANIZER;CN="TSV 1887 Schlo%C3%9F Neuhaus e.V. - Taekwon-Do":MAILTO:abteilungsleiter-taekwon-do@tsv1887.de
END:VEVENT
END:VCALENDAR