BEGIN:VCALENDAR
VERSION:2.0
PRODID:-//TSV 1887 - ECPv6.15.20//NONSGML v1.0//EN
CALSCALE:GREGORIAN
METHOD:PUBLISH
X-ORIGINAL-URL:https://www.tsv1887.de
X-WR-CALDESC:Veranstaltungen für TSV 1887
REFRESH-INTERVAL;VALUE=DURATION:PT1H
X-Robots-Tag:noindex
X-PUBLISHED-TTL:PT1H
BEGIN:VTIMEZONE
TZID:Europe/Berlin
BEGIN:DAYLIGHT
TZOFFSETFROM:+0100
TZOFFSETTO:+0200
TZNAME:CEST
DTSTART:20200329T010000
END:DAYLIGHT
BEGIN:STANDARD
TZOFFSETFROM:+0200
TZOFFSETTO:+0100
TZNAME:CET
DTSTART:20201025T010000
END:STANDARD
BEGIN:DAYLIGHT
TZOFFSETFROM:+0100
TZOFFSETTO:+0200
TZNAME:CEST
DTSTART:20210328T010000
END:DAYLIGHT
BEGIN:STANDARD
TZOFFSETFROM:+0200
TZOFFSETTO:+0100
TZNAME:CET
DTSTART:20211031T010000
END:STANDARD
BEGIN:DAYLIGHT
TZOFFSETFROM:+0100
TZOFFSETTO:+0200
TZNAME:CEST
DTSTART:20220327T010000
END:DAYLIGHT
BEGIN:STANDARD
TZOFFSETFROM:+0200
TZOFFSETTO:+0100
TZNAME:CET
DTSTART:20221030T010000
END:STANDARD
END:VTIMEZONE
BEGIN:VEVENT
DTSTART;TZID=Europe/Berlin:20210513T000000
DTEND;TZID=Europe/Berlin:20210524T235900
DTSTAMP:20260422T032129
CREATED:20210510T071348Z
LAST-MODIFIED:20210510T071348Z
UID:16687-1620864000-1621900740@www.tsv1887.de
SUMMARY:33. Residenz-Abendlauf als Solo-Lauf präsentiert vom Spar- und Bauverein
DESCRIPTION:Unser Residenz-Abendlauf findet in diesem Jahr in der Zeit vom 13. bis zum 24. Mai als Solo-Lauf statt. Neben den bekannten 5km- und 10km-Strecken können dieses Mal auch 20km absolviert werden. Die Strecken werden entsprechend ausgeschildert sein. Bei der 20km-Distanz ist die 10km-Runde zweimal zu absolvieren. Die Läufe gehören auch zur Serie des Hochstift-Cups. Die aktuell gültigen Corona-Schutzmaßnahmen sind zu beachten.\nAnmeldungen sind bis einschließlich Montag\, den 24. Mai um 16:00 Uhr unter https://my.raceresult.com/168942/ möglich.\nDie Teilnahme ist kostenlos. Der TSV 1887 Schloß Neuhaus freut sich jedoch über freiwillige Spenden der Teilnehmer/innen\, um die Anschaffung einer Hochsprung-Anlage für unsere Jugend auf dem Sportplatz am Merschweg zu unterstützen.
URL:https://www.tsv1887.de/termin/33-residenz-abendlauf-als-solo-lauf-praesentiert-vom-spar-und-bauverein/
LOCATION:Stadion am Merschweg\, Merschweg 9\, Paderborn\, 33104
CATEGORIES:Gesamtverein,Leichtathletik
GEO:51.74755;8.70402
X-APPLE-STRUCTURED-LOCATION;VALUE=URI;X-ADDRESS=Stadion am Merschweg Merschweg 9 Paderborn 33104;X-APPLE-RADIUS=500;X-TITLE=Merschweg 9:geo:8.70402,51.74755
END:VEVENT
END:VCALENDAR